BEGIN:VCALENDAR
VERSION:2.0
PRODID:-//Millennium Szivar Klub - ECPv6.15.10//NONSGML v1.0//EN
CALSCALE:GREGORIAN
METHOD:PUBLISH
X-WR-CALNAME:Millennium Szivar Klub
X-ORIGINAL-URL:https://millenniumszivarklub.hu
X-WR-CALDESC:Események Millennium Szivar Klub
REFRESH-INTERVAL;VALUE=DURATION:PT1H
X-Robots-Tag:noindex
X-PUBLISHED-TTL:PT1H
BEGIN:VTIMEZONE
TZID:UTC
BEGIN:STANDARD
TZOFFSETFROM:+0000
TZOFFSETTO:+0000
TZNAME:UTC
DTSTART:20250101T000000
END:STANDARD
END:VTIMEZONE
BEGIN:VEVENT
DTSTART;TZID=UTC:20260421T183000
DTEND;TZID=UTC:20260421T230000
DTSTAMP:20260420T082829
CREATED:20260414T174907Z
LAST-MODIFIED:20260416T091701Z
UID:981-1776796200-1776812400@millenniumszivarklub.hu
SUMMARY:XX. Szivarest | Kalauz az alkoholok világába
DESCRIPTION:Vendégünk Petrény Attila borász lesz\, akinek a családja már az 1600-as évek óta foglalkozik szőlőműveléssel és borkészítéssel az Egri borvidéken. A több évszázados hagyományokra építő\, mégis modern szemléletű borászat mára Magyarország egyik kiemelkedő szereplője\, nemzetközi sikerekkel és díjakkal a háta mögött\, köztük a Challenge International du Vin bordeaux-i borversenyen több mint 10! aranyéremmel. \n \nFedezd fel az alkoholok világának valódi mélységeit egy különleges esten a Millennium Szivarklubban\, ahol a pohár mögötti történetek kerülnek reflektorfénybe – nem csak a bor\, hanem minden\, ami alkohol!\nEzen az estén nem csupán a borról beszélgetünk\, hanem az alkohol teljes univerzumáról – a kultúráról\, a társadalmi szerepről és az élvezeti értékről. \nHol helyezkedik el a bor az alkoholok világában\, és mitől válik többé egyszerű italnál?\nMi különbözteti meg a minőségi bort a tömegterméktől\, és hogyan formálja a terroir\, a hagyomány és az emberi döntés az ízeket?\nSzó lesz a bor és a szivar kapcsolatáról\, az élmény tudatos megéléséről\, valamint arról is\, hogyan változik az alkoholfogyasztás kultúrája napjainkban. \nMegvizsgáljuk\, hogy a borászat mennyiben mesterség\, mennyiben művészet\, és hol kezdődik benne a filozófia.\nEgy őszinte\, inspiráló beszélgetés várható\, ahol a szakmaiság találkozik a történetekkel és a személyes tapasztalatokkal.\nHa érdekel\, mi van a palack mögött – és azon túl is –\, ez az este neked szól. \n \nHelyszín ezúttal is a La Fumée Buda lesz (más néven Buda Tobacco & Cigar Shop – 1113 Budapest\, Villányi út 74.). \n \nBelépés a szokásos 10.000 forint\, amely tartalmaz kóstolható borokat és csipegetnivalót. A szivarozáshoz szivart biztosítunk! \nA szivarkészlet a szomszédos humidorszoba széles választékából kiegészíthető. \nA szivarest programja: \n18:30-tól érkezés \n19 óra programkezdés \n23 órakor záróra \nA szivarest nyitott\, minden érdeklődőt szeretettel várunk\, de a szervezés megkönnyítéséhez kérjük\, regisztrálj\, illetve ha hozol magaddal vendéget\, akkor őt is.
URL:https://millenniumszivarklub.hu/event/xx-szivarest-kalauz-az-alkoholok-vilagaba/
ATTACH;FMTTYPE=image/jpeg:https://millenniumszivarklub.hu/wp-content/uploads/2026/04/Untitled-design-8-scaled.jpg
END:VEVENT
END:VCALENDAR